BEGIN:VCALENDAR
VERSION:2.0
PRODID:icalendar-ruby
CALSCALE:GREGORIAN
METHOD:PUBLISH
BEGIN:VEVENT
DTSTAMP:20260421T171859Z
UID:167-290188@westviewchurch.tv
DTSTART:20260913T143000Z
DTEND:20260914T033000Z
CLASS:PUBLIC
CREATED:20260421T112336
DESCRIPTION:We will be opening up the cafe at 9:30 on Sunday mornings for a
  little breakfast\, coffee\, and juice.\nPlease join us if you would like 
 to fellowship with our church family.\n 
LAST-MODIFIED:20260421T112336
LOCATION:Westview Church
SUMMARY:Fellowship and Breakfast
URL;VALUE=URI:https://www.westviewchurch.tv/events/fellowship-and-breakfast
 /2026-09-13
ATTACH;FILENAME=Fellowship Breakfast.webp;FMTTYPE=image/webp:https://dq5pwp
 g1q8ru0.cloudfront.net/2025/02/12/00/32/28/77e1e659-09c4-4571-9a7e-e08fb1a
 ff2e2/Fellowship%20Breakfast.webp
END:VEVENT
END:VCALENDAR
